BEGIN:VCALENDAR
VERSION:2.0
PRODID:-//213.154.231.201//NONSGML kigkonsult.se iCalcreator 2.20//
CALSCALE:GREGORIAN
METHOD:PUBLISH
X-WR-TIMEZONE:Europe/Amsterdam
BEGIN:VEVENT
UID:event467@Piratenkoor "de Stormvogels"
DTSTAMP:20260424T212511Z
CATEGORIES:Besloten    K.i.
DESCRIPTION:'t Aole Gemientehoes\nCategorie: Besloten    K.i.\nLink: http:/
 /piratenkoor.destormvogels.nl/index.php?option=com_jem&view=event&id=467:m
 antelzorg-schoonebeek\n
DTSTART;TZID=Europe/Amsterdam:20250117T133000
DTEND;TZID=Europe/Amsterdam:20250117T163000
LOCATION:Schoonebeek\,Schoonebeek
SUMMARY:'t Aole Gemientehoes
URL:http://piratenkoor.destormvogels.nl/index.php?option=com_jem&view=event
 &id=467:mantelzorg-schoonebeek
END:VEVENT
END:VCALENDAR