BEGIN:VCALENDAR
VERSION:2.0
PRODID:-//213.154.231.201//NONSGML kigkonsult.se iCalcreator 2.20//
CALSCALE:GREGORIAN
METHOD:PUBLISH
X-WR-TIMEZONE:Europe/Amsterdam
BEGIN:VEVENT
UID:event468@Piratenkoor "de Stormvogels"
DTSTAMP:20260424T114843Z
CATEGORIES:Besloten    K.i.
DESCRIPTION:De Weegbree\nCategorie: Besloten    K.i.\nLink: http://piratenk
 oor.destormvogels.nl/index.php?option=com_jem&view=event&id=468:de-weegbre
 e\n
DTSTART;TZID=Europe/Amsterdam:20250510T143000
DTEND;TZID=Europe/Amsterdam:20250510T154000
LOCATION:Klazienaveen\,Klazienaveen
SUMMARY:De Weegbree
URL:http://piratenkoor.destormvogels.nl/index.php?option=com_jem&view=event
 &id=468:de-weegbree
END:VEVENT
END:VCALENDAR