BEGIN:VCALENDAR
VERSION:2.0
PRODID:-//213.154.231.201//NONSGML kigkonsult.se iCalcreator 2.20//
CALSCALE:GREGORIAN
METHOD:PUBLISH
X-WR-TIMEZONE:Europe/Amsterdam
BEGIN:VEVENT
UID:event46@Piratenkoor "de Stormvogels"
DTSTAMP:20260424T175723Z
CATEGORIES:Entree
DESCRIPTION:Algemene Ledenvergadering\nCategorie: Entree\nLink: http://pira
 tenkoor.destormvogels.nl/index.php?option=com_jem&view=event&id=46:algemen
 e-ledenvergadering\n
DTSTART;TZID=Europe/Amsterdam:20130205T193000
DTEND;TZID=Europe/Amsterdam:20130205T193000
LOCATION:'t Schienvat op Erica\,Heidebloemstraat 4\,7887 EB Erica
SUMMARY:Algemene Ledenvergadering
URL:http://piratenkoor.destormvogels.nl/index.php?option=com_jem&view=event
 &id=46:algemene-ledenvergadering
END:VEVENT
END:VCALENDAR