BEGIN:VCALENDAR
VERSION:2.0
PRODID:-//213.154.231.201//NONSGML kigkonsult.se iCalcreator 2.20//
CALSCALE:GREGORIAN
METHOD:PUBLISH
X-WR-TIMEZONE:Europe/Amsterdam
BEGIN:VEVENT
UID:event470@Piratenkoor "de Stormvogels"
DTSTAMP:20260425T005759Z
CATEGORIES:Openbaar     G.i.
DESCRIPTION:FEVA   Valthe\nCategorie: Openbaar     G.i.\nLink: http://pirat
 enkoor.destormvogels.nl/index.php?option=com_jem&view=event&id=470:feva-va
 lthe\n
DTSTART;TZID=Europe/Amsterdam:20250907T140000
DTEND;TZID=Europe/Amsterdam:20250907T170000
LOCATION:Valthe\,Valthe
SUMMARY:FEVA   Valthe
URL:http://piratenkoor.destormvogels.nl/index.php?option=com_jem&view=event
 &id=470:feva-valthe
END:VEVENT
END:VCALENDAR