BEGIN:VCALENDAR
VERSION:2.0
PRODID:-//213.154.231.201//NONSGML kigkonsult.se iCalcreator 2.20//
CALSCALE:GREGORIAN
METHOD:PUBLISH
X-WR-TIMEZONE:Europe/Amsterdam
BEGIN:VEVENT
UID:event475@Piratenkoor "de Stormvogels"
DTSTAMP:20260424T192630Z
CATEGORIES:Openbaar    K.i.
DESCRIPTION:Cho  Rensenpark\nCategorie: Openbaar    K.i.\nLink: http://pira
 tenkoor.destormvogels.nl/index.php?option=com_jem&view=event&id=475:cho-re
 nsenpark\n
DTSTART;TZID=Europe/Amsterdam:20250222T143000
DTEND;TZID=Europe/Amsterdam:20250222T173000
LOCATION:Cho Rensenpark\,Hoofdstraat 18\,7811 EP Emmen
SUMMARY:Cho  Rensenpark
URL:http://piratenkoor.destormvogels.nl/index.php?option=com_jem&view=event
 &id=475:cho-rensenpark
END:VEVENT
END:VCALENDAR