BEGIN:VCALENDAR
VERSION:2.0
PRODID:-//213.154.231.201//NONSGML kigkonsult.se iCalcreator 2.20//
CALSCALE:GREGORIAN
METHOD:PUBLISH
X-WR-TIMEZONE:Europe/Amsterdam
BEGIN:VEVENT
UID:event476@Piratenkoor "de Stormvogels"
DTSTAMP:20260424T165107Z
CATEGORIES:Besloten    Onb
DESCRIPTION:Hemmeltied RTV Drenthe\nCategorie: Besloten    Onb\nLink: http:
 //piratenkoor.destormvogels.nl/index.php?option=com_jem&view=event&id=476:
 hemmeltied-rtv-drenthe\n
DTSTART;TZID=Europe/Amsterdam:20250329T093000
DTEND;TZID=Europe/Amsterdam:20250329T120000
LOCATION:RTV Drenthe\,Beilerstraat 20\,9401 PL Assen
SUMMARY:Hemmeltied RTV Drenthe
URL:http://piratenkoor.destormvogels.nl/index.php?option=com_jem&view=event
 &id=476:hemmeltied-rtv-drenthe
END:VEVENT
END:VCALENDAR