BEGIN:VCALENDAR
VERSION:2.0
PRODID:-//213.154.231.201//NONSGML kigkonsult.se iCalcreator 2.20//
CALSCALE:GREGORIAN
METHOD:PUBLISH
X-WR-TIMEZONE:Europe/Amsterdam
BEGIN:VEVENT
UID:event480@Piratenkoor "de Stormvogels"
DTSTAMP:20260425T000726Z
CATEGORIES:Openbaar   Derden
DESCRIPTION:Shantyfestival Putten\nCategorie: Openbaar   Derden\nLink: http
 ://piratenkoor.destormvogels.nl/index.php?option=com_jem&view=event&id=480
 :shantyfestival-putten\n
DTSTART;TZID=Europe/Amsterdam:20250816T120000
DTEND;TZID=Europe/Amsterdam:20250816T170000
LOCATION:Putten\,Putten
SUMMARY:Shantyfestival Putten
URL:http://piratenkoor.destormvogels.nl/index.php?option=com_jem&view=event
 &id=480:shantyfestival-putten
END:VEVENT
END:VCALENDAR