BEGIN:VCALENDAR
VERSION:2.0
PRODID:-//213.154.231.201//NONSGML kigkonsult.se iCalcreator 2.20//
CALSCALE:GREGORIAN
METHOD:PUBLISH
X-WR-TIMEZONE:Europe/Amsterdam
BEGIN:VEVENT
UID:event481@Piratenkoor "de Stormvogels"
DTSTAMP:20260424T162056Z
CATEGORIES:Openbaar     G.i.
DESCRIPTION:Veenvaart festival\nCategorie: Openbaar     G.i.\nLink: http://
 piratenkoor.destormvogels.nl/index.php?option=com_jem&view=event&id=481:ve
 envaart-festival\n
DTSTART;TZID=Europe/Amsterdam:20250824T110000
DTEND;TZID=Europe/Amsterdam:20250824T170000
LOCATION:Emmercompascuum
SUMMARY:Veenvaart festival
URL:http://piratenkoor.destormvogels.nl/index.php?option=com_jem&view=event
 &id=481:veenvaart-festival
END:VEVENT
END:VCALENDAR