BEGIN:VCALENDAR
VERSION:2.0
PRODID:-//213.154.231.201//NONSGML kigkonsult.se iCalcreator 2.20//
CALSCALE:GREGORIAN
METHOD:PUBLISH
X-WR-TIMEZONE:Europe/Amsterdam
BEGIN:VEVENT
UID:event485@Piratenkoor "de Stormvogels"
DTSTAMP:20260425T005757Z
CATEGORIES:Besloten    K.i.
DESCRIPTION:De Bloemhof\nCategorie: Besloten    K.i.\nLink: http://piratenk
 oor.destormvogels.nl/index.php?option=com_jem&view=event&id=485:de-bloemho
 f\n
DTSTART;TZID=Europe/Amsterdam:20251014T190000
DTEND;TZID=Europe/Amsterdam:20251014T210000
LOCATION:Ten Boer\,Bloemhof 1\,9791 LA Ten Boer
SUMMARY:De Bloemhof
URL:http://piratenkoor.destormvogels.nl/index.php?option=com_jem&view=event
 &id=485:de-bloemhof
END:VEVENT
END:VCALENDAR