BEGIN:VCALENDAR
VERSION:2.0
PRODID:-//213.154.231.201//NONSGML kigkonsult.se iCalcreator 2.20//
CALSCALE:GREGORIAN
METHOD:PUBLISH
X-WR-TIMEZONE:Europe/Amsterdam
BEGIN:VEVENT
UID:event486@Piratenkoor "de Stormvogels"
DTSTAMP:20260424T103712Z
CATEGORIES:Openbaar    K.i.
DESCRIPTION:De Cocon\nCategorie: Openbaar    K.i.\nLink: http://piratenkoor
 .destormvogels.nl/index.php?option=com_jem&view=event&id=486:de-cocon\n
DTSTART;TZID=Europe/Amsterdam:20251116T140000
DTEND;TZID=Europe/Amsterdam:20251116T163000
LOCATION:De Cocon\,Marktplein 114\,7811 BA Emmen
SUMMARY:De Cocon
URL:http://piratenkoor.destormvogels.nl/index.php?option=com_jem&view=event
 &id=486:de-cocon
END:VEVENT
END:VCALENDAR