BEGIN:VCALENDAR
VERSION:2.0
PRODID:-//213.154.231.201//NONSGML kigkonsult.se iCalcreator 2.20//
CALSCALE:GREGORIAN
METHOD:PUBLISH
X-WR-TIMEZONE:Europe/Amsterdam
BEGIN:VEVENT
UID:event487@Piratenkoor "de Stormvogels"
DTSTAMP:20260424T154807Z
CATEGORIES:Besloten    Onb
DESCRIPTION:Nieuwjaarsbijeenkomst\nCategorie: Besloten    Onb\nLink: http:/
 /piratenkoor.destormvogels.nl/index.php?option=com_jem&view=event&id=487:n
 ieuwjaarsbijeenkomst\n
DTSTART;TZID=Europe/Amsterdam:20260110T200000
DTEND;TZID=Europe/Amsterdam:20260110T235500
LOCATION:'t Schienvat op Erica\,Heidebloemstraat 4\,7887 EB Erica
SUMMARY:Nieuwjaarsbijeenkomst
URL:http://piratenkoor.destormvogels.nl/index.php?option=com_jem&view=event
 &id=487:nieuwjaarsbijeenkomst
END:VEVENT
END:VCALENDAR