BEGIN:VCALENDAR
VERSION:2.0
PRODID:-//213.154.231.201//NONSGML kigkonsult.se iCalcreator 2.20//
CALSCALE:GREGORIAN
METHOD:PUBLISH
X-WR-TIMEZONE:Europe/Amsterdam
BEGIN:VEVENT
UID:event488@Piratenkoor "de Stormvogels"
DTSTAMP:20260425T171134Z
CATEGORIES:Besloten    K.i.
DESCRIPTION:Dorpshoeve\nCategorie: Besloten    K.i.\nLink: http://piratenko
 or.destormvogels.nl/index.php?option=com_jem&view=event&id=488:dorpshoeve
 \n
DTSTART;TZID=Europe/Amsterdam:20251026T140000
DTEND;TZID=Europe/Amsterdam:20251026T163000
LOCATION:Nieuw-Schoonebeek\,Nieuw-Schoonebeek
SUMMARY:Dorpshoeve
URL:http://piratenkoor.destormvogels.nl/index.php?option=com_jem&view=event
 &id=488:dorpshoeve
END:VEVENT
END:VCALENDAR