BEGIN:VCALENDAR
VERSION:2.0
PRODID:-//213.154.231.201//NONSGML kigkonsult.se iCalcreator 2.20//
CALSCALE:GREGORIAN
METHOD:PUBLISH
X-WR-TIMEZONE:Europe/Amsterdam
BEGIN:VEVENT
UID:event489@Piratenkoor "de Stormvogels"
DTSTAMP:20260425T005754Z
CATEGORIES:Openbaar     G.i.
DESCRIPTION:de markt Emmen\nCategorie: Openbaar     G.i.\nLink: http://pira
 tenkoor.destormvogels.nl/index.php?option=com_jem&view=event&id=489:de-mar
 kt-emmen\n
DTSTART;TZID=Europe/Amsterdam:20251003T110000
DTEND;TZID=Europe/Amsterdam:20251003T140000
LOCATION:Emmen\,Emmen
SUMMARY:de markt Emmen
URL:http://piratenkoor.destormvogels.nl/index.php?option=com_jem&view=event
 &id=489:de-markt-emmen
END:VEVENT
END:VCALENDAR