BEGIN:VCALENDAR
VERSION:2.0
PRODID:-//213.154.231.201//NONSGML kigkonsult.se iCalcreator 2.20//
CALSCALE:GREGORIAN
METHOD:PUBLISH
X-WR-TIMEZONE:Europe/Amsterdam
BEGIN:VEVENT
UID:event494@Piratenkoor "de Stormvogels"
DTSTAMP:20260424T214452Z
CATEGORIES:Besloten    K.i.
DESCRIPTION:Zorgcentrum de Weegbree\nCategorie: Besloten    K.i.\nLink: htt
 p://piratenkoor.destormvogels.nl/index.php?option=com_jem&view=event&id=49
 4:zorgcentrum-de-weegbree\n
DTSTART;TZID=Europe/Amsterdam:20260627T143000
DTEND;TZID=Europe/Amsterdam:20260627T154500
LOCATION:Klazienaveen\,Klazienaveen
SUMMARY:Zorgcentrum de Weegbree
URL:http://piratenkoor.destormvogels.nl/index.php?option=com_jem&view=event
 &id=494:zorgcentrum-de-weegbree
END:VEVENT
END:VCALENDAR