BEGIN:VCALENDAR
VERSION:2.0
PRODID:-//213.154.231.201//NONSGML kigkonsult.se iCalcreator 2.20//
CALSCALE:GREGORIAN
METHOD:PUBLISH
X-WR-TIMEZONE:Europe/Amsterdam
BEGIN:VEVENT
UID:event497@Piratenkoor "de Stormvogels"
DTSTAMP:20260425T151701Z
CATEGORIES:Besloten    K.i.
DESCRIPTION:de Horst\nCategorie: Besloten    K.i.\nLink: http://piratenkoor
 .destormvogels.nl/index.php?option=com_jem&view=event&id=497:de-horst\n
DTSTART;TZID=Europe/Amsterdam:20260120T190000
DTEND;TZID=Europe/Amsterdam:20260120T203000
LOCATION:Emmen\,Emmen
SUMMARY:de Horst
URL:http://piratenkoor.destormvogels.nl/index.php?option=com_jem&view=event
 &id=497:de-horst
END:VEVENT
END:VCALENDAR