BEGIN:VCALENDAR
VERSION:2.0
PRODID:-//213.154.231.201//NONSGML kigkonsult.se iCalcreator 2.20//
CALSCALE:GREGORIAN
METHOD:PUBLISH
X-WR-TIMEZONE:Europe/Amsterdam
BEGIN:VEVENT
UID:event499@Piratenkoor "de Stormvogels"
DTSTAMP:20260424T185847Z
CATEGORIES:Openbaar     G.i.
DESCRIPTION:Korenfestival Zuidwolde\nCategorie: Openbaar     G.i.\nLink: ht
 tp://piratenkoor.destormvogels.nl/index.php?option=com_jem&view=event&id=4
 99:korenfestival-zuidwolde\n
DTSTART;TZID=Europe/Amsterdam:20260711T110000
DTEND;TZID=Europe/Amsterdam:20260711T170000
LOCATION:Zuidwolde\,Zuidwolde
SUMMARY:Korenfestival Zuidwolde
URL:http://piratenkoor.destormvogels.nl/index.php?option=com_jem&view=event
 &id=499:korenfestival-zuidwolde
END:VEVENT
END:VCALENDAR