BEGIN:VCALENDAR
VERSION:2.0
PRODID:-//213.154.231.201//NONSGML kigkonsult.se iCalcreator 2.20//
CALSCALE:GREGORIAN
METHOD:PUBLISH
X-WR-TIMEZONE:Europe/Amsterdam
BEGIN:VEVENT
UID:event49@Piratenkoor "de Stormvogels"
DTSTAMP:20260424T175722Z
CATEGORIES:Openbaar    Onb
DESCRIPTION:Statenhoek\nCategorie: Openbaar    Onb\nLink: http://piratenkoo
 r.destormvogels.nl/index.php?option=com_jem&view=event&id=49:statenhoek\n
DTSTART;TZID=Europe/Amsterdam:20130318T193000
DTEND;TZID=Europe/Amsterdam:20130318T220000
LOCATION:Emmen\, Noordbarge\,Huizingsbrinkweg\,7812 BL Emmen
SUMMARY:Statenhoek
URL:http://piratenkoor.destormvogels.nl/index.php?option=com_jem&view=event
 &id=49:statenhoek
END:VEVENT
END:VCALENDAR