BEGIN:VCALENDAR
VERSION:2.0
PRODID:-//213.154.231.201//NONSGML kigkonsult.se iCalcreator 2.20//
CALSCALE:GREGORIAN
METHOD:PUBLISH
X-WR-TIMEZONE:Europe/Amsterdam
BEGIN:VEVENT
UID:event4@Piratenkoor "de Stormvogels"
DTSTAMP:20260424T163439Z
CATEGORIES:Besloten    Onb
DESCRIPTION:Algemene ledenvergadering\nCategorie: Besloten    Onb\nLink: ht
 tp://piratenkoor.destormvogels.nl/index.php?option=com_jem&view=event&id=4
 :algemene-ledenvergadering\n
DTSTART;TZID=Europe/Amsterdam:20120124T200000
DTEND;TZID=Europe/Amsterdam:20120124T230000
LOCATION:'t Schienvat op Erica\,Heidebloemstraat 4\,7887 EB Erica
SUMMARY:Algemene ledenvergadering
URL:http://piratenkoor.destormvogels.nl/index.php?option=com_jem&view=event
 &id=4:algemene-ledenvergadering
END:VEVENT
END:VCALENDAR