BEGIN:VCALENDAR
VERSION:2.0
PRODID:-//213.154.231.201//NONSGML kigkonsult.se iCalcreator 2.20//
CALSCALE:GREGORIAN
METHOD:PUBLISH
X-WR-TIMEZONE:Europe/Amsterdam
BEGIN:VEVENT
UID:event50@Piratenkoor "de Stormvogels"
DTSTAMP:20260424T212502Z
CATEGORIES:Openbaar    Onb
DESCRIPTION:Schloss - Dankern (Ferienzentrum)\nCategorie: Openbaar    Onb\n
 Link: http://piratenkoor.destormvogels.nl/index.php?option=com_jem&view=ev
 ent&id=50:schloss-dankern\n
DTSTART;TZID=Europe/Amsterdam:20130428T140000
DTEND;TZID=Europe/Amsterdam:20130428T170000
LOCATION:Schloss Dankern (D)\,Am Tiergarten\,49733 Haren (Ems)
SUMMARY:Schloss - Dankern (Ferienzentrum)
URL:http://piratenkoor.destormvogels.nl/index.php?option=com_jem&view=event
 &id=50:schloss-dankern
END:VEVENT
END:VCALENDAR