BEGIN:VCALENDAR
VERSION:2.0
PRODID:-//213.154.231.201//NONSGML kigkonsult.se iCalcreator 2.20//
CALSCALE:GREGORIAN
METHOD:PUBLISH
X-WR-TIMEZONE:Europe/Amsterdam
BEGIN:VEVENT
UID:event53@Piratenkoor "de Stormvogels"
DTSTAMP:20260424T133802Z
CATEGORIES:Openbaar    Onb
DESCRIPTION:Wielerronde Angelslo\nCategorie: Openbaar    Onb\nLink: http://
 piratenkoor.destormvogels.nl/index.php?option=com_jem&view=event&id=53:wie
 lerronde-angelslo\n
DTSTART;TZID=Europe/Amsterdam:20130509T130000
DTEND;TZID=Europe/Amsterdam:20130509T170000
LOCATION:Emmen\, Noordbarge\,Huizingsbrinkweg\,7812 BL Emmen
SUMMARY:Wielerronde Angelslo
URL:http://piratenkoor.destormvogels.nl/index.php?option=com_jem&view=event
 &id=53:wielerronde-angelslo
END:VEVENT
END:VCALENDAR