BEGIN:VCALENDAR
VERSION:2.0
PRODID:-//213.154.231.201//NONSGML kigkonsult.se iCalcreator 2.20//
CALSCALE:GREGORIAN
METHOD:PUBLISH
X-WR-TIMEZONE:Europe/Amsterdam
BEGIN:VEVENT
UID:event54@Piratenkoor "de Stormvogels"
DTSTAMP:20260424T191542Z
CATEGORIES:Openbaar    Onb
DESCRIPTION:Fietsen ohne grenzen\nCategorie: Openbaar    Onb\nLink: http://
 piratenkoor.destormvogels.nl/index.php?option=com_jem&view=event&id=54:fie
 tsen-ohne-grenzen\n
DTSTART;TZID=Europe/Amsterdam:20130510T130000
DTEND;TZID=Europe/Amsterdam:20130510T170000
LOCATION:Oosterhesselen\,Oosterhesselen
SUMMARY:Fietsen ohne grenzen
URL:http://piratenkoor.destormvogels.nl/index.php?option=com_jem&view=event
 &id=54:fietsen-ohne-grenzen
END:VEVENT
END:VCALENDAR