BEGIN:VCALENDAR
VERSION:2.0
PRODID:-//213.154.231.201//NONSGML kigkonsult.se iCalcreator 2.20//
CALSCALE:GREGORIAN
METHOD:PUBLISH
X-WR-TIMEZONE:Europe/Amsterdam
BEGIN:VEVENT
UID:event57@Piratenkoor "de Stormvogels"
DTSTAMP:20260424T165107Z
CATEGORIES:Besloten    Onb
DESCRIPTION:Regge Coast Festival\nCategorie: Besloten    Onb\nLink: http://
 piratenkoor.destormvogels.nl/index.php?option=com_jem&view=event&id=57:reg
 ge-coast-festival\n
DTSTART;TZID=Europe/Amsterdam:20130525T103000
DTEND;TZID=Europe/Amsterdam:20130525T173000
LOCATION:Nijverdal\,Nijverdal
SUMMARY:Regge Coast Festival
URL:http://piratenkoor.destormvogels.nl/index.php?option=com_jem&view=event
 &id=57:regge-coast-festival
END:VEVENT
END:VCALENDAR