BEGIN:VCALENDAR
VERSION:2.0
PRODID:-//213.154.231.201//NONSGML kigkonsult.se iCalcreator 2.20//
CALSCALE:GREGORIAN
METHOD:PUBLISH
X-WR-TIMEZONE:Europe/Amsterdam
BEGIN:VEVENT
UID:event58@Piratenkoor "de Stormvogels"
DTSTAMP:20260424T103712Z
CATEGORIES:Openbaar    Onb
DESCRIPTION:Scloss Dankern\nCategorie: Openbaar    Onb\nLink: http://pirate
 nkoor.destormvogels.nl/index.php?option=com_jem&view=event&id=58:scloss-da
 nkern\n
DTSTART;TZID=Europe/Amsterdam:20130526T130000
DTEND;TZID=Europe/Amsterdam:20130526T170000
LOCATION:Schloss Dankern (D)\,Am Tiergarten\,49733 Haren (Ems)
SUMMARY:Scloss Dankern
URL:http://piratenkoor.destormvogels.nl/index.php?option=com_jem&view=event
 &id=58:scloss-dankern
END:VEVENT
END:VCALENDAR