BEGIN:VCALENDAR
VERSION:2.0
PRODID:-//213.154.231.201//NONSGML kigkonsult.se iCalcreator 2.20//
CALSCALE:GREGORIAN
METHOD:PUBLISH
X-WR-TIMEZONE:Europe/Amsterdam
BEGIN:VEVENT
UID:event59@Piratenkoor "de Stormvogels"
DTSTAMP:20260424T212514Z
CATEGORIES:Openbaar    Onb
DESCRIPTION:Kibbelhof\nCategorie: Openbaar    Onb\nLink: http://piratenkoor
 .destormvogels.nl/index.php?option=com_jem&view=event&id=59:kibbelhof\n
DTSTART;TZID=Europe/Amsterdam:20130528T150000
DTEND;TZID=Europe/Amsterdam:20130528T170000
LOCATION:Schoonoord\,Kibbelveen 1\,7848 TA Schoonoord
SUMMARY:Kibbelhof
URL:http://piratenkoor.destormvogels.nl/index.php?option=com_jem&view=event
 &id=59:kibbelhof
END:VEVENT
END:VCALENDAR