BEGIN:VCALENDAR
VERSION:2.0
PRODID:-//213.154.231.201//NONSGML kigkonsult.se iCalcreator 2.20//
CALSCALE:GREGORIAN
METHOD:PUBLISH
X-WR-TIMEZONE:Europe/Amsterdam
BEGIN:VEVENT
UID:event60@Piratenkoor "de Stormvogels"
DTSTAMP:20260425T155336Z
CATEGORIES:Openbaar    Onb
DESCRIPTION:150 jaar Erica\nCategorie: Openbaar    Onb\nLink: http://pirate
 nkoor.destormvogels.nl/index.php?option=com_jem&view=event&id=60:150-jaar-
 erica\n
DTSTART;TZID=Europe/Amsterdam:20130529T143000
DTEND;TZID=Europe/Amsterdam:20130529T170000
LOCATION:Erica\,Erica
SUMMARY:150 jaar Erica
URL:http://piratenkoor.destormvogels.nl/index.php?option=com_jem&view=event
 &id=60:150-jaar-erica
END:VEVENT
END:VCALENDAR