BEGIN:VCALENDAR
VERSION:2.0
PRODID:-//213.154.231.201//NONSGML kigkonsult.se iCalcreator 2.20//
CALSCALE:GREGORIAN
METHOD:PUBLISH
X-WR-TIMEZONE:Europe/Amsterdam
BEGIN:VEVENT
UID:event63@Piratenkoor "de Stormvogels"
DTSTAMP:20260425T000558Z
CATEGORIES:Openbaar    Onb
DESCRIPTION:Deelen terras Schloss Dankern\nCategorie: Openbaar    Onb\nLink
 : http://piratenkoor.destormvogels.nl/index.php?option=com_jem&view=event&
 id=63:deelen-terras-schloss-dankern\n
DTSTART;TZID=Europe/Amsterdam:20130602T120000
DTEND;TZID=Europe/Amsterdam:20130602T170000
LOCATION:Schloss Dankern (D)\,Am Tiergarten\,49733 Haren (Ems)
SUMMARY:Deelen terras Schloss Dankern
URL:http://piratenkoor.destormvogels.nl/index.php?option=com_jem&view=event
 &id=63:deelen-terras-schloss-dankern
END:VEVENT
END:VCALENDAR