BEGIN:VCALENDAR
VERSION:2.0
PRODID:-//213.154.231.201//NONSGML kigkonsult.se iCalcreator 2.20//
CALSCALE:GREGORIAN
METHOD:PUBLISH
X-WR-TIMEZONE:Europe/Amsterdam
BEGIN:VEVENT
UID:event65@Piratenkoor "de Stormvogels"
DTSTAMP:20260424T180418Z
CATEGORIES:Besloten    Onb
DESCRIPTION:Shantyfestival Woerden\nCategorie: Besloten    Onb\nLink: http:
 //piratenkoor.destormvogels.nl/index.php?option=com_jem&view=event&id=65:s
 hantyfestival-wooerden\n
DTSTART;TZID=Europe/Amsterdam:20130615T100000
DTEND;TZID=Europe/Amsterdam:20130615T173000
LOCATION:Woerden\,Rijnstraat\,Woerden
SUMMARY:Shantyfestival Woerden
URL:http://piratenkoor.destormvogels.nl/index.php?option=com_jem&view=event
 &id=65:shantyfestival-wooerden
END:VEVENT
END:VCALENDAR