BEGIN:VCALENDAR
VERSION:2.0
PRODID:-//213.154.231.201//NONSGML kigkonsult.se iCalcreator 2.20//
CALSCALE:GREGORIAN
METHOD:PUBLISH
X-WR-TIMEZONE:Europe/Amsterdam
BEGIN:VEVENT
UID:event66@Piratenkoor "de Stormvogels"
DTSTAMP:20260424T191532Z
CATEGORIES:Besloten    Onb
DESCRIPTION:Nieuwe Vaarverbinding\nCategorie: Besloten    Onb\nLink: http:/
 /piratenkoor.destormvogels.nl/index.php?option=com_jem&view=event&id=66:ni
 euwe-vaarverbinding\n
DTSTART;TZID=Europe/Amsterdam:20130622T130000
DTEND;TZID=Europe/Amsterdam:20130622T170000
LOCATION:'t Schienvat op Erica\,Heidebloemstraat 4\,7887 EB Erica
SUMMARY:Nieuwe Vaarverbinding
URL:http://piratenkoor.destormvogels.nl/index.php?option=com_jem&view=event
 &id=66:nieuwe-vaarverbinding
END:VEVENT
END:VCALENDAR