BEGIN:VCALENDAR
VERSION:2.0
PRODID:-//213.154.231.201//NONSGML kigkonsult.se iCalcreator 2.20//
CALSCALE:GREGORIAN
METHOD:PUBLISH
X-WR-TIMEZONE:Europe/Amsterdam
BEGIN:VEVENT
UID:event67@Piratenkoor "de Stormvogels"
DTSTAMP:20260424T220743Z
CATEGORIES:Openbaar    Onb
DESCRIPTION:LET OP !!  Laatste repetitie-avond van dit seizoen\nCategorie: 
 Openbaar    Onb\nLink: http://piratenkoor.destormvogels.nl/index.php?optio
 n=com_jem&view=event&id=67:laatste-repetitie-avond-van-dit-seizoen\n
DTSTART;TZID=Europe/Amsterdam:20130625T200000
DTEND;TZID=Europe/Amsterdam:20130625T220000
LOCATION:'t Schienvat op Erica\,Heidebloemstraat 4\,7887 EB Erica
SUMMARY:LET OP !!  Laatste repetitie-avond van dit seizoen
URL:http://piratenkoor.destormvogels.nl/index.php?option=com_jem&view=event
 &id=67:laatste-repetitie-avond-van-dit-seizoen
END:VEVENT
END:VCALENDAR