BEGIN:VCALENDAR
VERSION:2.0
PRODID:-//213.154.231.201//NONSGML kigkonsult.se iCalcreator 2.20//
CALSCALE:GREGORIAN
METHOD:PUBLISH
X-WR-TIMEZONE:Europe/Amsterdam
BEGIN:VEVENT
UID:event69@Piratenkoor "de Stormvogels"
DTSTAMP:20260424T175715Z
CATEGORIES:Openbaar    Onb
DESCRIPTION:Haring party\nCategorie: Openbaar    Onb\nLink: http://piratenk
 oor.destormvogels.nl/index.php?option=com_jem&view=event&id=69:haring-part
 y\n
DTSTART;TZID=Europe/Amsterdam:20130627T190000
DTEND;TZID=Europe/Amsterdam:20130627T210000
LOCATION:Emmen\, Noordbarge\,Huizingsbrinkweg\,7812 BL Emmen
SUMMARY:Haring party
URL:http://piratenkoor.destormvogels.nl/index.php?option=com_jem&view=event
 &id=69:haring-party
END:VEVENT
END:VCALENDAR