BEGIN:VCALENDAR
VERSION:2.0
PRODID:-//213.154.231.201//NONSGML kigkonsult.se iCalcreator 2.20//
CALSCALE:GREGORIAN
METHOD:PUBLISH
X-WR-TIMEZONE:Europe/Amsterdam
BEGIN:VEVENT
UID:event70@Piratenkoor "de Stormvogels"
DTSTAMP:20260424T191545Z
CATEGORIES:Openbaar    Onb
DESCRIPTION:Weerkomdagen Borculo\nCategorie: Openbaar    Onb\nLink: http://
 piratenkoor.destormvogels.nl/index.php?option=com_jem&view=event&id=70:wee
 rkomdagen-borculo\n
DTSTART;TZID=Europe/Amsterdam:20130629T110000
DTEND;TZID=Europe/Amsterdam:20130629T180000
LOCATION:Borculo\,Borculo
SUMMARY:Weerkomdagen Borculo
URL:http://piratenkoor.destormvogels.nl/index.php?option=com_jem&view=event
 &id=70:weerkomdagen-borculo
END:VEVENT
END:VCALENDAR