BEGIN:VCALENDAR
VERSION:2.0
PRODID:-//213.154.231.201//NONSGML kigkonsult.se iCalcreator 2.20//
CALSCALE:GREGORIAN
METHOD:PUBLISH
X-WR-TIMEZONE:Europe/Amsterdam
BEGIN:VEVENT
UID:event72@Piratenkoor "de Stormvogels"
DTSTAMP:20260424T131911Z
CATEGORIES:Openbaar    Onb
DESCRIPTION:Bejaartehuis\nCategorie: Openbaar    Onb\nLink: http://piratenk
 oor.destormvogels.nl/index.php?option=com_jem&view=event&id=72:bejaartehui
 s\n
DTSTART;VALUE=DATE:20130704
DTEND;VALUE=DATE:20130705
LOCATION:Schoonloo\,Schoonloo
SUMMARY:Bejaartehuis
URL:http://piratenkoor.destormvogels.nl/index.php?option=com_jem&view=event
 &id=72:bejaartehuis
END:VEVENT
END:VCALENDAR