BEGIN:VCALENDAR
VERSION:2.0
PRODID:-//213.154.231.201//NONSGML kigkonsult.se iCalcreator 2.20//
CALSCALE:GREGORIAN
METHOD:PUBLISH
X-WR-TIMEZONE:Europe/Amsterdam
BEGIN:VEVENT
UID:event73@Piratenkoor "de Stormvogels"
DTSTAMP:20260424T191551Z
CATEGORIES:Openbaar    Onb
DESCRIPTION:Speciale afsluiting repetitieavonden\nCategorie: Openbaar    On
 b\nLink: http://piratenkoor.destormvogels.nl/index.php?option=com_jem&view
 =event&id=73:speciale-afsluiting-repetitieavonden\n
DTSTART;TZID=Europe/Amsterdam:20130706T150000
DTEND;TZID=Europe/Amsterdam:20130706T200000
LOCATION:Emmen\, Noordbarge\,Huizingsbrinkweg\,7812 BL Emmen
SUMMARY:Speciale afsluiting repetitieavonden
URL:http://piratenkoor.destormvogels.nl/index.php?option=com_jem&view=event
 &id=73:speciale-afsluiting-repetitieavonden
END:VEVENT
END:VCALENDAR