BEGIN:VCALENDAR
VERSION:2.0
PRODID:-//213.154.231.201//NONSGML kigkonsult.se iCalcreator 2.20//
CALSCALE:GREGORIAN
METHOD:PUBLISH
X-WR-TIMEZONE:Europe/Amsterdam
BEGIN:VEVENT
UID:event75@Piratenkoor "de Stormvogels"
DTSTAMP:20260424T224439Z
CATEGORIES:Openbaar    Onb
DESCRIPTION:Havendagen Coevorden\nCategorie: Openbaar    Onb\nLink: http://
 piratenkoor.destormvogels.nl/index.php?option=com_jem&view=event&id=75:hav
 endagen-coevorden\n
DTSTART;TZID=Europe/Amsterdam:20130713T160000
DTEND;TZID=Europe/Amsterdam:20130713T180000
LOCATION:Coevorden\,Coevorden
SUMMARY:Havendagen Coevorden
URL:http://piratenkoor.destormvogels.nl/index.php?option=com_jem&view=event
 &id=75:havendagen-coevorden
END:VEVENT
END:VCALENDAR