BEGIN:VCALENDAR
VERSION:2.0
PRODID:-//213.154.231.201//NONSGML kigkonsult.se iCalcreator 2.20//
CALSCALE:GREGORIAN
METHOD:PUBLISH
X-WR-TIMEZONE:Europe/Amsterdam
BEGIN:VEVENT
UID:event76@Piratenkoor "de Stormvogels"
DTSTAMP:20260424T191850Z
CATEGORIES:Openbaar    Onb
DESCRIPTION:Duke Jacob Festival Kuldiga Letland\nCategorie: Openbaar    Onb
 \nLink: http://piratenkoor.destormvogels.nl/index.php?option=com_jem&view=
 event&id=76:festival-kuldiga-letland\n
DTSTART;VALUE=DATE:20130716
DTEND;VALUE=DATE:20130724
LOCATION:Kuldiga (LV)\,Virkas iela 27\,LV-3301 Kuldiga
SUMMARY:Duke Jacob Festival Kuldiga Letland
URL:http://piratenkoor.destormvogels.nl/index.php?option=com_jem&view=event
 &id=76:festival-kuldiga-letland
END:VEVENT
END:VCALENDAR