BEGIN:VCALENDAR
VERSION:2.0
PRODID:-//213.154.231.201//NONSGML kigkonsult.se iCalcreator 2.20//
CALSCALE:GREGORIAN
METHOD:PUBLISH
X-WR-TIMEZONE:Europe/Amsterdam
BEGIN:VEVENT
UID:event77@Piratenkoor "de Stormvogels"
DTSTAMP:20260424T212509Z
CATEGORIES:Openbaar    Onb
DESCRIPTION:Fiets4daagse SC Angelslo\nCategorie: Openbaar    Onb\nLink: htt
 p://piratenkoor.destormvogels.nl/index.php?option=com_jem&view=event&id=77
 :fiets4daagse-sc-angelslo\n
DTSTART;TZID=Europe/Amsterdam:20130724T200000
DTEND;TZID=Europe/Amsterdam:20130724T223000
LOCATION:Emmen\, Noordbarge\,Huizingsbrinkweg\,7812 BL Emmen
SUMMARY:Fiets4daagse SC Angelslo
URL:http://piratenkoor.destormvogels.nl/index.php?option=com_jem&view=event
 &id=77:fiets4daagse-sc-angelslo
END:VEVENT
END:VCALENDAR