BEGIN:VCALENDAR
VERSION:2.0
PRODID:-//213.154.231.201//NONSGML kigkonsult.se iCalcreator 2.20//
CALSCALE:GREGORIAN
METHOD:PUBLISH
X-WR-TIMEZONE:Europe/Amsterdam
BEGIN:VEVENT
UID:event79@Piratenkoor "de Stormvogels"
DTSTAMP:20260424T103713Z
CATEGORIES:Openbaar    Onb
DESCRIPTION:Scloss Dankern\nCategorie: Openbaar    Onb\nLink: http://pirate
 nkoor.destormvogels.nl/index.php?option=com_jem&view=event&id=79:scloss-da
 nkern\n
DTSTART;TZID=Europe/Amsterdam:20130804T130000
DTEND;TZID=Europe/Amsterdam:20130804T180000
LOCATION:Schloss Dankern (D)\,Am Tiergarten\,49733 Haren (Ems)
SUMMARY:Scloss Dankern
URL:http://piratenkoor.destormvogels.nl/index.php?option=com_jem&view=event
 &id=79:scloss-dankern
END:VEVENT
END:VCALENDAR