BEGIN:VCALENDAR
VERSION:2.0
PRODID:-//213.154.231.201//NONSGML kigkonsult.se iCalcreator 2.20//
CALSCALE:GREGORIAN
METHOD:PUBLISH
X-WR-TIMEZONE:Europe/Amsterdam
BEGIN:VEVENT
UID:event80@Piratenkoor "de Stormvogels"
DTSTAMP:20260424T192631Z
CATEGORIES:Openbaar    Onb
DESCRIPTION:Festival  Emmer-compascuum\nCategorie: Openbaar    Onb\nLink: h
 ttp://piratenkoor.destormvogels.nl/index.php?option=com_jem&view=event&id=
 80:festival-emmer-compascuum\n
DTSTART;TZID=Europe/Amsterdam:20130810T120000
DTEND;TZID=Europe/Amsterdam:20130810T163000
LOCATION:Emmer-Compascuum\,Emmer-Compascuum
SUMMARY:Festival  Emmer-compascuum
URL:http://piratenkoor.destormvogels.nl/index.php?option=com_jem&view=event
 &id=80:festival-emmer-compascuum
END:VEVENT
END:VCALENDAR