BEGIN:VCALENDAR
VERSION:2.0
PRODID:-//213.154.231.201//NONSGML kigkonsult.se iCalcreator 2.20//
CALSCALE:GREGORIAN
METHOD:PUBLISH
X-WR-TIMEZONE:Europe/Amsterdam
BEGIN:VEVENT
UID:event81@Piratenkoor "de Stormvogels"
DTSTAMP:20260425T164751Z
CATEGORIES:Openbaar    Onb
DESCRIPTION:Shanty-festival\nCategorie: Openbaar    Onb\nLink: http://pirat
 enkoor.destormvogels.nl/index.php?option=com_jem&view=event&id=81:shanty-f
 estival\n
DTSTART;TZID=Europe/Amsterdam:20130811T110000
DTEND;TZID=Europe/Amsterdam:20130811T180000
LOCATION:Geeste (D)\,Geeste 
SUMMARY:Shanty-festival
URL:http://piratenkoor.destormvogels.nl/index.php?option=com_jem&view=event
 &id=81:shanty-festival
END:VEVENT
END:VCALENDAR