BEGIN:VCALENDAR
VERSION:2.0
PRODID:-//213.154.231.201//NONSGML kigkonsult.se iCalcreator 2.20//
CALSCALE:GREGORIAN
METHOD:PUBLISH
X-WR-TIMEZONE:Europe/Amsterdam
BEGIN:VEVENT
UID:event82@Piratenkoor "de Stormvogels"
DTSTAMP:20260425T005800Z
CATEGORIES:Besloten    Onb
DESCRIPTION:Vlindermarkt\nCategorie: Besloten    Onb\nLink: http://piratenk
 oor.destormvogels.nl/index.php?option=com_jem&view=event&id=82:vlindermark
 t\n
DTSTART;TZID=Europe/Amsterdam:20130813T120000
DTEND;TZID=Europe/Amsterdam:20130813T160000
LOCATION:Emmen\, Marktplein\,Marktplein\,Emmen
SUMMARY:Vlindermarkt
URL:http://piratenkoor.destormvogels.nl/index.php?option=com_jem&view=event
 &id=82:vlindermarkt
END:VEVENT
END:VCALENDAR