BEGIN:VCALENDAR
VERSION:2.0
PRODID:-//213.154.231.201//NONSGML kigkonsult.se iCalcreator 2.20//
CALSCALE:GREGORIAN
METHOD:PUBLISH
X-WR-TIMEZONE:Europe/Amsterdam
BEGIN:VEVENT
UID:event85@Piratenkoor "de Stormvogels"
DTSTAMP:20260424T200705Z
CATEGORIES:Openbaar    Onb
DESCRIPTION:interculturele markt\nCategorie: Openbaar    Onb\nLink: http://
 piratenkoor.destormvogels.nl/index.php?option=com_jem&view=event&id=85:int
 erculturele-markt\n
DTSTART;TZID=Europe/Amsterdam:20130824T140000
DTEND;TZID=Europe/Amsterdam:20130824T163000
LOCATION:Hoogezand\,Hoogezand
SUMMARY:interculturele markt
URL:http://piratenkoor.destormvogels.nl/index.php?option=com_jem&view=event
 &id=85:interculturele-markt
END:VEVENT
END:VCALENDAR