BEGIN:VCALENDAR
VERSION:2.0
PRODID:-//213.154.231.201//NONSGML kigkonsult.se iCalcreator 2.20//
CALSCALE:GREGORIAN
METHOD:PUBLISH
X-WR-TIMEZONE:Europe/Amsterdam
BEGIN:VEVENT
UID:event87@Piratenkoor "de Stormvogels"
DTSTAMP:20260424T175721Z
CATEGORIES:Besloten    Onb
DESCRIPTION:Festival\nCategorie: Besloten    Onb\nLink: http://piratenkoor.
 destormvogels.nl/index.php?option=com_jem&view=event&id=87:festival\n
DTSTART;TZID=Europe/Amsterdam:20130831T120000
DTEND;TZID=Europe/Amsterdam:20130831T180000
LOCATION:Ugchelen\,Ugchelen
SUMMARY:Festival
URL:http://piratenkoor.destormvogels.nl/index.php?option=com_jem&view=event
 &id=87:festival
END:VEVENT
END:VCALENDAR