BEGIN:VCALENDAR
VERSION:2.0
PRODID:-//213.154.231.201//NONSGML kigkonsult.se iCalcreator 2.20//
CALSCALE:GREGORIAN
METHOD:PUBLISH
X-WR-TIMEZONE:Europe/Amsterdam
BEGIN:VEVENT
UID:event89@Piratenkoor "de Stormvogels"
DTSTAMP:20260424T212503Z
CATEGORIES:Openbaar    Onb
DESCRIPTION:Verpleeghuis De Horst\nCategorie: Openbaar    Onb\nLink: http:/
 /piratenkoor.destormvogels.nl/index.php?option=com_jem&view=event&id=89:ve
 rpleeghuis-de-horst\n
DTSTART;TZID=Europe/Amsterdam:20130910T190000
DTEND;TZID=Europe/Amsterdam:20130910T203000
LOCATION:De Holdert Emmen\,Hondsrugweg 101\,7811 AB Emmen
SUMMARY:Verpleeghuis De Horst
URL:http://piratenkoor.destormvogels.nl/index.php?option=com_jem&view=event
 &id=89:verpleeghuis-de-horst
END:VEVENT
END:VCALENDAR