BEGIN:VCALENDAR
VERSION:2.0
PRODID:-//213.154.231.201//NONSGML kigkonsult.se iCalcreator 2.20//
CALSCALE:GREGORIAN
METHOD:PUBLISH
X-WR-TIMEZONE:Europe/Amsterdam
BEGIN:VEVENT
UID:event8@Piratenkoor "de Stormvogels"
DTSTAMP:20260424T212508Z
CATEGORIES:Openbaar    Onb
DESCRIPTION:Grote kerk - Odoorn\nCategorie: Openbaar    Onb\nLink: http://p
 iratenkoor.destormvogels.nl/index.php?option=com_jem&view=event&id=8:grote
 -kerk-odoorn\n
DTSTART;TZID=Europe/Amsterdam:20120226T150000
DTEND;TZID=Europe/Amsterdam:20120226T170000
LOCATION:Odoorn\,Odoorn
SUMMARY:Grote kerk - Odoorn
URL:http://piratenkoor.destormvogels.nl/index.php?option=com_jem&view=event
 &id=8:grote-kerk-odoorn
END:VEVENT
END:VCALENDAR