BEGIN:VCALENDAR
VERSION:2.0
PRODID:-//213.154.231.201//NONSGML kigkonsult.se iCalcreator 2.20//
CALSCALE:GREGORIAN
METHOD:PUBLISH
X-WR-TIMEZONE:Europe/Amsterdam
BEGIN:VEVENT
UID:event91@Piratenkoor "de Stormvogels"
DTSTAMP:20260424T163437Z
CATEGORIES:Openbaar    Onb
DESCRIPTION:Huizerbotterdagen\nCategorie: Openbaar    Onb\nLink: http://pir
 atenkoor.destormvogels.nl/index.php?option=com_jem&view=event&id=91:huizer
 botterdagen\n
DTSTART;TZID=Europe/Amsterdam:20130921T110000
DTEND;TZID=Europe/Amsterdam:20130921T173000
LOCATION:Huizen\,Huizen
SUMMARY:Huizerbotterdagen
URL:http://piratenkoor.destormvogels.nl/index.php?option=com_jem&view=event
 &id=91:huizerbotterdagen
END:VEVENT
END:VCALENDAR