BEGIN:VCALENDAR
VERSION:2.0
PRODID:-//213.154.231.201//NONSGML kigkonsult.se iCalcreator 2.20//
CALSCALE:GREGORIAN
METHOD:PUBLISH
X-WR-TIMEZONE:Europe/Amsterdam
BEGIN:VEVENT
UID:event92@Piratenkoor "de Stormvogels"
DTSTAMP:20260424T161440Z
CATEGORIES:Openbaar    Onb
DESCRIPTION:Shantyfestival Tussen Rijn en Lek \nCategorie: Openbaar    Onb
 \nLink: http://piratenkoor.destormvogels.nl/index.php?option=com_jem&view=
 event&id=92:shantyfestival-tussen-rijn-en-lek\n
DTSTART;TZID=Europe/Amsterdam:20130928T110000
DTEND;TZID=Europe/Amsterdam:20130928T183000
LOCATION:Wijk bij Duurstede\,Centrum\,Wijk bij Duurstede
SUMMARY:Shantyfestival Tussen Rijn en Lek 
URL:http://piratenkoor.destormvogels.nl/index.php?option=com_jem&view=event
 &id=92:shantyfestival-tussen-rijn-en-lek
END:VEVENT
END:VCALENDAR