BEGIN:VCALENDAR
VERSION:2.0
PRODID:-//213.154.231.201//NONSGML kigkonsult.se iCalcreator 2.20//
CALSCALE:GREGORIAN
METHOD:PUBLISH
X-WR-TIMEZONE:Europe/Amsterdam
BEGIN:VEVENT
UID:event94@Piratenkoor "de Stormvogels"
DTSTAMP:20260424T163440Z
CATEGORIES:Openbaar    Onb
DESCRIPTION:Kerst Special Parc Centrum Sandur\nCategorie: Openbaar    Onb\n
 Link: http://piratenkoor.destormvogels.nl/index.php?option=com_jem&view=ev
 ent&id=94:kerst-special-parc-centrum-sandur\n
DTSTART;TZID=Europe/Amsterdam:20131222T140000
DTEND;TZID=Europe/Amsterdam:20131222T160000
LOCATION:Parc Centrum Sandur\,Sandurdreef 5\,7828 AA Emmen
SUMMARY:Kerst Special Parc Centrum Sandur
URL:http://piratenkoor.destormvogels.nl/index.php?option=com_jem&view=event
 &id=94:kerst-special-parc-centrum-sandur
END:VEVENT
END:VCALENDAR