BEGIN:VCALENDAR
VERSION:2.0
PRODID:-//213.154.231.201//NONSGML kigkonsult.se iCalcreator 2.20//
CALSCALE:GREGORIAN
METHOD:PUBLISH
X-WR-TIMEZONE:Europe/Amsterdam
BEGIN:VEVENT
UID:event97@Piratenkoor "de Stormvogels"
DTSTAMP:20260424T165109Z
CATEGORIES:Openbaar    Onb
DESCRIPTION:Theaterboerderij Noorderbak\nCategorie: Openbaar    Onb\nLink: 
 http://piratenkoor.destormvogels.nl/index.php?option=com_jem&view=event&id
 =97:theaterboerderij-noorderbak\n
DTSTART;TZID=Europe/Amsterdam:20140308T200000
DTEND;TZID=Europe/Amsterdam:20140308T230000
LOCATION:Roswinkel\,Roswinkelerstraat 81B\,7895 AN Roswinkel
SUMMARY:Theaterboerderij Noorderbak
URL:http://piratenkoor.destormvogels.nl/index.php?option=com_jem&view=event
 &id=97:theaterboerderij-noorderbak
END:VEVENT
END:VCALENDAR