BEGIN:VCALENDAR
VERSION:2.0
PRODID:-//213.154.231.201//NONSGML kigkonsult.se iCalcreator 2.20//
CALSCALE:GREGORIAN
METHOD:PUBLISH
X-WR-TIMEZONE:Europe/Amsterdam
BEGIN:VEVENT
UID:event98@Piratenkoor "de Stormvogels"
DTSTAMP:20260424T155629Z
CATEGORIES:Openbaar    Onb
DESCRIPTION:`t Brinkenhoes\nCategorie: Openbaar    Onb\nLink: http://pirate
 nkoor.destormvogels.nl/index.php?option=com_jem&view=event&id=98:t-brinken
 hoes\n
DTSTART;TZID=Europe/Amsterdam:20140419T140000
DTEND;TZID=Europe/Amsterdam:20140419T170000
LOCATION:'t Brinkenhoes\,Mantingerbrink 140\,7812 MH Emmen
SUMMARY:`t Brinkenhoes
URL:http://piratenkoor.destormvogels.nl/index.php?option=com_jem&view=event
 &id=98:t-brinkenhoes
END:VEVENT
END:VCALENDAR