BEGIN:VCALENDAR
VERSION:2.0
PRODID:-//213.154.231.201//NONSGML kigkonsult.se iCalcreator 2.20//
CALSCALE:GREGORIAN
METHOD:PUBLISH
X-WR-TIMEZONE:Europe/Amsterdam
BEGIN:VEVENT
UID:event9@Piratenkoor "de Stormvogels"
DTSTAMP:20260424T191550Z
CATEGORIES:Openbaar    Onb
DESCRIPTION:Newcastle - Noord Engeland\nCategorie: Openbaar    Onb\nLink: h
 ttp://piratenkoor.destormvogels.nl/index.php?option=com_jem&view=event&id=
 9:newcastle-noord-engeland\n
DTSTART;TZID=Europe/Amsterdam:20120309T120000
DTEND;TZID=Europe/Amsterdam:20120311T170000
LOCATION:Newcastle\,Newcastle upon Tyne
SUMMARY:Newcastle - Noord Engeland
URL:http://piratenkoor.destormvogels.nl/index.php?option=com_jem&view=event
 &id=9:newcastle-noord-engeland
END:VEVENT
END:VCALENDAR